BEGIN:VCALENDAR
VERSION:2.0
PRODID:-//Pirate Ship Johns Pass Boat Tours &amp; Dolphin Tour - ECPv6.4.0.1//NONSGML v1.0//EN
CALSCALE:GREGORIAN
METHOD:PUBLISH
X-WR-CALNAME:Pirate Ship Johns Pass Boat Tours &amp; Dolphin Tour
X-ORIGINAL-URL:https://belltechwebtools.com/STAGING/johnspass
X-WR-CALDESC:Events for Pirate Ship Johns Pass Boat Tours &amp; Dolphin Tour
REFRESH-INTERVAL;VALUE=DURATION:PT1H
X-Robots-Tag:noindex
X-PUBLISHED-TTL:PT1H
BEGIN:VTIMEZONE
TZID:UTC
BEGIN:STANDARD
TZOFFSETFROM:+0000
TZOFFSETTO:+0000
TZNAME:UTC
DTSTART:20210101T000000
END:STANDARD
END:VTIMEZONE
BEGIN:VEVENT
DTSTART;TZID=UTC:20210327T190000
DTEND;TZID=UTC:20210327T210000
DTSTAMP:20260421T032140
CREATED:20210226T054558Z
LAST-MODIFIED:20221201T061908Z
UID:7415-1616871600-1616878800@belltechwebtools.com
SUMMARY:John Alan Carmac
DESCRIPTION:2-hour\, Adult Friendly\, Live Music Cruises on the Royal Conquest\nAdults $44.99pp +tax\nChildren $34.99 +tax\nAll cruises include FREE beer and wine! \nBook now
URL:https://belltechwebtools.com/STAGING/johnspass/event/john-alan-carmac/
CATEGORIES:Royal Conquest
END:VEVENT
END:VCALENDAR