BEGIN:VCALENDAR
VERSION:2.0
PRODID:-//Pirate Ship Johns Pass Boat Tours &amp; Dolphin Tour - ECPv6.4.0.1//NONSGML v1.0//EN
CALSCALE:GREGORIAN
METHOD:PUBLISH
X-WR-CALNAME:Pirate Ship Johns Pass Boat Tours &amp; Dolphin Tour
X-ORIGINAL-URL:https://belltechwebtools.com/STAGING/johnspass
X-WR-CALDESC:Events for Pirate Ship Johns Pass Boat Tours &amp; Dolphin Tour
REFRESH-INTERVAL;VALUE=DURATION:PT1H
X-Robots-Tag:noindex
X-PUBLISHED-TTL:PT1H
BEGIN:VTIMEZONE
TZID:UTC
BEGIN:STANDARD
TZOFFSETFROM:+0000
TZOFFSETTO:+0000
TZNAME:UTC
DTSTART:20210101T000000
END:STANDARD
END:VTIMEZONE
BEGIN:VEVENT
DTSTART;TZID=UTC:20210123T140000
DTEND;TZID=UTC:20210123T153000
DTSTAMP:20260423T151500
CREATED:20201203T064113Z
LAST-MODIFIED:20201203T064113Z
UID:7319-1611410400-1611415800@belltechwebtools.com
SUMMARY:John's Pass Arts Weekend Family Fun Adventure Cruise
DESCRIPTION:
URL:https://belltechwebtools.com/STAGING/johnspass/event/johns-pass-arts-weekend-family-fun-adventure-cruise/
CATEGORIES:Royal Conquest
END:VEVENT
END:VCALENDAR