BEGIN:VCALENDAR
VERSION:2.0
PRODID:-//Pirate Ship Johns Pass Boat Tours &amp; Dolphin Tour - ECPv6.4.0.1//NONSGML v1.0//EN
CALSCALE:GREGORIAN
METHOD:PUBLISH
X-WR-CALNAME:Pirate Ship Johns Pass Boat Tours &amp; Dolphin Tour
X-ORIGINAL-URL:https://belltechwebtools.com/STAGING/johnspass
X-WR-CALDESC:Events for Pirate Ship Johns Pass Boat Tours &amp; Dolphin Tour
REFRESH-INTERVAL;VALUE=DURATION:PT1H
X-Robots-Tag:noindex
X-PUBLISHED-TTL:PT1H
BEGIN:VTIMEZONE
TZID:UTC
BEGIN:STANDARD
TZOFFSETFROM:+0000
TZOFFSETTO:+0000
TZNAME:UTC
DTSTART:20210101T000000
END:STANDARD
END:VTIMEZONE
BEGIN:VEVENT
DTSTART;TZID=UTC:20210123T164500
DTEND;TZID=UTC:20210123T200000
DTSTAMP:20260423T133232
CREATED:20201203T064524Z
LAST-MODIFIED:20201203T064524Z
UID:7323-1611420300-1611432000@belltechwebtools.com
SUMMARY:John's Pass Arts Weekend Live Music Cruise to Tierra Verde and Back
DESCRIPTION:Cruising to Tierra Verde to drop off guests from the earlier cruise and returning to John’s Pass. Live music by Casey Allen.
URL:https://belltechwebtools.com/STAGING/johnspass/event/johns-pass-arts-weekend-live-music-cruise-to-tierra-verde-and-back/
CATEGORIES:Royal Conquest
END:VEVENT
END:VCALENDAR