BEGIN:VCALENDAR
VERSION:2.0
PRODID:-//Pirate Ship Johns Pass Boat Tours &amp; Dolphin Tour - ECPv6.4.0.1//NONSGML v1.0//EN
CALSCALE:GREGORIAN
METHOD:PUBLISH
X-WR-CALNAME:Pirate Ship Johns Pass Boat Tours &amp; Dolphin Tour
X-ORIGINAL-URL:https://belltechwebtools.com/STAGING/johnspass
X-WR-CALDESC:Events for Pirate Ship Johns Pass Boat Tours &amp; Dolphin Tour
REFRESH-INTERVAL;VALUE=DURATION:PT1H
X-Robots-Tag:noindex
X-PUBLISHED-TTL:PT1H
BEGIN:VTIMEZONE
TZID:UTC
BEGIN:STANDARD
TZOFFSETFROM:+0000
TZOFFSETTO:+0000
TZNAME:UTC
DTSTART:20200101T000000
END:STANDARD
END:VTIMEZONE
BEGIN:VEVENT
DTSTART;TZID=UTC:20201231T193000
DTEND;TZID=UTC:20201231T213000
DTSTAMP:20260423T201705
CREATED:20201111T100605Z
LAST-MODIFIED:20201111T100605Z
UID:7220-1609443000-1609450200@belltechwebtools.com
SUMMARY:New Year's Eve: 2020 Out with a Bang! Cruise
DESCRIPTION:
URL:https://belltechwebtools.com/STAGING/johnspass/event/new-years-eve-2020-out-with-a-bang-cruise/
CATEGORIES:Royal Conquest
END:VEVENT
END:VCALENDAR