BEGIN:VCALENDAR
VERSION:2.0
PRODID:-//Pirate Ship Johns Pass Boat Tours &amp; Dolphin Tour - ECPv6.4.0.1//NONSGML v1.0//EN
CALSCALE:GREGORIAN
METHOD:PUBLISH
X-WR-CALNAME:Pirate Ship Johns Pass Boat Tours &amp; Dolphin Tour
X-ORIGINAL-URL:https://belltechwebtools.com/STAGING/johnspass
X-WR-CALDESC:Events for Pirate Ship Johns Pass Boat Tours &amp; Dolphin Tour
REFRESH-INTERVAL;VALUE=DURATION:PT1H
X-Robots-Tag:noindex
X-PUBLISHED-TTL:PT1H
BEGIN:VTIMEZONE
TZID:UTC
BEGIN:STANDARD
TZOFFSETFROM:+0000
TZOFFSETTO:+0000
TZNAME:UTC
DTSTART:20200101T000000
END:STANDARD
END:VTIMEZONE
BEGIN:VEVENT
DTSTART;TZID=UTC:20201231T170000
DTEND;TZID=UTC:20201231T183000
DTSTAMP:20260423T215115
CREATED:20201111T100506Z
LAST-MODIFIED:20201111T100506Z
UID:7218-1609434000-1609439400@belltechwebtools.com
SUMMARY:New Year's Eve Sunset Cruise
DESCRIPTION:
URL:https://belltechwebtools.com/STAGING/johnspass/event/new-years-eve-sunset-cruise/
CATEGORIES:Royal Conquest
END:VEVENT
END:VCALENDAR