BEGIN:VCALENDAR
VERSION:2.0
PRODID:-//Pirate Ship Johns Pass Boat Tours &amp; Dolphin Tour - ECPv6.4.0.1//NONSGML v1.0//EN
CALSCALE:GREGORIAN
METHOD:PUBLISH
X-WR-CALNAME:Pirate Ship Johns Pass Boat Tours &amp; Dolphin Tour
X-ORIGINAL-URL:https://belltechwebtools.com/STAGING/johnspass
X-WR-CALDESC:Events for Pirate Ship Johns Pass Boat Tours &amp; Dolphin Tour
REFRESH-INTERVAL;VALUE=DURATION:PT1H
X-Robots-Tag:noindex
X-PUBLISHED-TTL:PT1H
BEGIN:VTIMEZONE
TZID:UTC
BEGIN:STANDARD
TZOFFSETFROM:+0000
TZOFFSETTO:+0000
TZNAME:UTC
DTSTART:20210101T000000
END:STANDARD
END:VTIMEZONE
BEGIN:VEVENT
DTSTART;TZID=UTC:20210123T094500
DTEND;TZID=UTC:20210123T113000
DTSTAMP:20260423T165031
CREATED:20201203T063948Z
LAST-MODIFIED:20201203T063948Z
UID:7317-1611395100-1611401400@belltechwebtools.com
SUMMARY:Pirate Cruise to John's Pass Arts Weekend
DESCRIPTION:Departing from the Island Grille and Raw Bar at 210 Madonna Blvd\, Tierra Verde\, FL 33715\, 9:45am and arriving at John’s Pass at 11:30am.
URL:https://belltechwebtools.com/STAGING/johnspass/event/pirate-cruise-to-johns-pass-arts-weekend/
CATEGORIES:Royal Conquest
END:VEVENT
END:VCALENDAR